BEGIN:VCALENDAR
VERSION:2.0
PRODID:-//eventon.com NONSGML v1.0//EN
BEGIN:VEVENT
UID:69e73b3edf63e
DTSTAMP:20260421T105422
DTSTART:20260626T130000Z
DTEND:20260626T215000Z
TZID:Europe/Berlin
LOCATION:Kulturhaus Pusdorf / Veranstaltungsraum Woltmershauser Straße 444\,  28197 Bremen
SUMMARY:Ausstellungseröffnung: Everything with perspective - free and open
DESCRIPTION: In Pusdorf gibt es eine offene Werkstatt für Jugendliche ab 10 Jahre: Free and Open. Jeden Donnerstag treffen sich hier junge Künstler*innen. Unter der Anleitung des Künstlers Georg Bronn wählen sie Themen und Materialien selbst aus – von Zeichnungen über Drucke\,  Malerei\,  Collagen bis hin zu Comics. So werden Ideen[..]
URL:https://www.kulturhaus-pusdorf.de/events/ausstellungseroeffnung-everything-with-perspective-free-and-open/
END:VEVENT
END:VCALENDAR