BEGIN:VCALENDAR
VERSION:2.0
PRODID:-//eventon.com NONSGML v1.0//EN
BEGIN:VEVENT
UID:69e736d8a6689
DTSTAMP:20260421T103536
DTSTART:20260619T180000Z
DTEND:20260619T215000Z
TZID:Europe/Berlin
LOCATION:Kulturhaus Pusdorf / Veranstaltungsraum Woltmershauser Straße 444\,  28197 Bremen
SUMMARY:Klavierkonzert - Felipe Cerón
DESCRIPTION: Werke von Franz Schubert.  Felipe Cerón absolvierte sein Bachelorstudium an der Nationaluniversität Kolumbiens\,  den Masterabschluss im Fach Klavier erlangte er an der Hochschule für Künste Bremen. Als engagierter Pädagoge ist er heute als Klavierlehrer und Korrepetitor tätig. Ein besonderer künstlerischer Schwerpunkt seiner Arbeit liegt im Kunstlied\,  insbesondere in der Musik[..]
URL:https://www.kulturhaus-pusdorf.de/events/klavierkonzert-felipe-ceron/
END:VEVENT
END:VCALENDAR