BEGIN:VCALENDAR
VERSION:2.0
PRODID:-//eventon.com NONSGML v1.0//EN
BEGIN:VEVENT
UID:69e738fe815dd
DTSTAMP:20260421T104446
DTSTART:20260517T140000Z
DTEND:20260517T215000Z
TZID:Europe/Berlin
LOCATION:Kulturhaus Pusdorf / Veranstaltungsraum Woltmershauser Straße 444\,  28197 Bremen
SUMMARY:Kindertheater: Kurt und Wilma gehen an Bord
DESCRIPTION: Clownstheater für Kinder ab 4 Jahre. Gespielt von Julia Wiegmann und Christian Braun. Fernweh in Sicht! Kurt und Wilma wollen verreisen. Sie wissen nicht wohin und vor allem auch nicht womit sie sich auf den Weg machen können. Zum Glück entdecken sie ein großes Papierboot. Mit Fantasie\,  Neugier und Unternehmungslust[..]
URL:https://www.kulturhaus-pusdorf.de/events/kindertheater-kurt-und-wilma-gehen-an-bord/
END:VEVENT
END:VCALENDAR