BEGIN:VCALENDAR
VERSION:2.0
PRODID:-//eventon.com NONSGML v1.0//EN
BEGIN:VEVENT
UID:69e73a6a40649
DTSTAMP:20260421T105050
DTSTART:20260420T081200Z
DTEND:20260420T081200Z
TZID:Europe/Berlin
LOCATION:Kulturhaus Pusdorf / Veranstaltungsraum Woltmershauser Straße 444\,  28197 Bremen
SUMMARY:Kindertheater: Rabe Socke
DESCRIPTION: Tickets ausverkauft! Nach den Büchern von Nele Moost für Kinder ab 3 Jahre. Gespielt vom Mobilen Figurentheater Bremen.  Eigentlich ist Rabe Socke ein netter Kerl\,  nur zeigt er diese Seite erst einmal nicht. Viel lieber ist er frech und hat dann gar keine Lust\,  nett\,  lieb und hilfsbereit zu sein.[..]
URL:https://www.kulturhaus-pusdorf.de/?post_type=ajde_events&p=8660
END:VEVENT
END:VCALENDAR