BEGIN:VCALENDAR
VERSION:2.0
PRODID:-//eventon.com NONSGML v1.0//EN
BEGIN:VEVENT
UID:69e736742b8b2
DTSTAMP:20260421T103356
DTSTART:20260420T081200Z
DTEND:20260420T081200Z
TZID:Europe/Berlin
LOCATION:Kulturhaus Pusdorf / Veranstaltungsraum Woltmershauser Straße 444\,  28197 Bremen
SUMMARY:49. Kleinkunstabend in Pusdorf
DESCRIPTION: Moderiert wird der Abend wie gewohnt von Hans-Martin Sänger. Im Bereich Wort konnte der Autor Sebastian Pape gewonnen werden\,  im Brotberuf Coach für Gesundheit\,  Performance und Kommunikation. Eine bunte Biografie\,  in welcher Berufsbezeichnungen wie Fotomodell\,  Türsteher\,  Beikoch und Buch­händler auftauchen\,  treibt die Erwartungen an seine Lesebeiträge in die Höhe\,  wenn[..]
URL:https://www.kulturhaus-pusdorf.de/?post_type=ajde_events&p=8657
END:VEVENT
END:VCALENDAR