BEGIN:VCALENDAR
VERSION:2.0
PRODID:-//eventon.com NONSGML v1.0//EN
BEGIN:VEVENT
UID:69e73a66d8682
DTSTAMP:20260421T105046
DTSTART:20260424T160000Z
DTEND:20260424T200000Z
TZID:Europe/Berlin
LOCATION:Oberschule Roter Sand Butjadinger Str. 21
SUMMARY:Die 4. Lange Nacht des Sports
DESCRIPTION: Der AK Jugendbeteiligung organisiert zum vierten Mal die Lange Nacht des Sports\,  bei der sich Kinder und Jugendliche ab 10 Jahre von 18 bis 22 Uhr ausgiebig bewegen und ganz unterschiedliche Sportarten und Freizeitaktivitäten ausprobieren können. Beim Muay Thai die Muskeln\,  beim Bogenschießen die Konzentration und beim Badminton den Teamgeist[..]
URL:https://www.kulturhaus-pusdorf.de/events/die-4-lange-nacht-des-sports/
END:VEVENT
END:VCALENDAR