BEGIN:VCALENDAR
VERSION:2.0
PRODID:-//eventon.com NONSGML v1.0//EN
BEGIN:VEVENT
UID:69e4fff38a6ca
DTSTAMP:20260419T181651
DTSTART:20260506T171500Z
DTEND:20260506T193000Z
TZID:Europe/Berlin
LOCATION:Kulturhaus Pusdorf / Veranstaltungsraum Woltmershauser Straße 444\,  28197 Bremen
SUMMARY:Pusdorf Voices - Chor
DESCRIPTION: Die „Pusdorf Voices“ sind experimentierfreudige Sänger*innen\,  die mit Klängen\,  Tönen\,  Liedern und Rhythmen spielen und dabei stetig ihre musikalischen und gesanglichen Fähigkeiten erweitern. Mit der Überzeugung\,  dass Musik in jedem und jeder zu entdecken ist\,  gehen sie forsch und heiter überall da hin\,  wo Menschen sind\,  um sie zu ermutigen\, [..]
URL:https://www.kulturhaus-pusdorf.de/events/pusdorf-voices-chor/var/ri-6.l-L1
END:VEVENT
END:VCALENDAR