BEGIN:VCALENDAR
VERSION:2.0
PRODID:-//eventon.com NONSGML v1.0//EN
BEGIN:VEVENT
UID:69ed1c6c247a0
DTSTAMP:20260425T215628
DTSTART:20260601T140000Z
DTEND:20260601T170000Z
TZID:Europe/Berlin
LOCATION:Kulturhaus Pusdorf / 1. Etage 
SUMMARY:Töpferkurs - Vasen und Skulpturen
DESCRIPTION: Die Künstlerin Dorit Hillebrecht bietet an\,  sich ausgiebig mit den Proportionen des menschlichen Körpers zu beschäftigen oder einen Gebrauchsgegenstand mit dem Material Ton zu gestalten. Dabei werden die Grundlagen der Aufbautechnik vermittelt. Den Ideen der Teilnehmer*innen sind keine Grenzen gesetzt. Skulpturen\,  Reliefs\,  Aschenbecher\,  Tassen oder ganz freie Arbeiten\,  figürliches oder[..]
URL:https://www.kulturhaus-pusdorf.de/events/toepferkurs-vasen-und-skulpturen/var/ri-8.l-L1
END:VEVENT
END:VCALENDAR