BEGIN:VCALENDAR
VERSION:2.0
PRODID:-//eventon.com NONSGML v1.0//EN
BEGIN:VEVENT
UID:69ed1bc185896
DTSTAMP:20260425T215337
DTSTART:20260428T084500Z
DTEND:20260428T100000Z
TZID:Europe/Berlin
LOCATION:Kulturhaus Pusdorf / Veranstaltungsraum Woltmershauser Straße 444\,  28197 Bremen
SUMMARY:Yoga im Älterwerden
DESCRIPTION: &#8222;Wer innehält\,  hat innen Halt&#8220; (Laotse) Das Nachlassen der Kräfte im Älterwerden ermöglicht Ruhe und Abstand. Qualitäten\,  die in der heutigen schnelllebigen Zeit einen heilsamen Gegenpol bilden. In der Hinwendung zu unserem Atem und dem wohlwollenden Hinspüren in den Übungen mit Achtsamkeit lernen wir immer wieder\,  uns anzunehmen und gleichzeitig[..]
URL:https://www.kulturhaus-pusdorf.de/events/yoga-im-aelterwerden/var/ri-8.l-L1
END:VEVENT
END:VCALENDAR