BEGIN:VCALENDAR
VERSION:2.0
PRODID:-//eventon.com NONSGML v1.0//EN
BEGIN:VEVENT
UID:69ed1bc79ded7
DTSTAMP:20260425T215343
DTSTART:20260429T153000Z
DTEND:20260429T170000Z
TZID:Europe/Berlin
LOCATION:Kulturhaus Pusdorf / Veranstaltungsraum Woltmershauser Straße 444\,  28197 Bremen
SUMMARY:Entspannung durch Yoga
DESCRIPTION: Yoga antwortet auf Stress\,  Abgespanntheit oder auf psychischen Schmerz mit sofortiger Wirkung: Es verbindet unseren Körper mit unserem Geist und bringt uns zurück ins Gleichgewicht zwischen Innen und Außen. Diese 2400 Jahre alte Disziplin lässt uns mehr Stabilität im Alltag erfahren\,  unabhängig von Alter oder körperlicher Beschaffenheit. Um unserem Alltag[..]
URL:https://www.kulturhaus-pusdorf.de/events/entspannung-durch-yoga-3/var/ri-8.l-L1
END:VEVENT
END:VCALENDAR