BEGIN:VCALENDAR
VERSION:2.0
PRODID:-//eventon.com NONSGML v1.0//EN
BEGIN:VEVENT
UID:69e4fe6090cb9
DTSTAMP:20260419T181008
DTSTART:20260423T080000Z
DTEND:20260423T100000Z
TZID:Europe/Berlin
LOCATION:Kulturhaus Pusdorf / Veranstaltungsraum Woltmershauser Straße 444\,  28197 Bremen
SUMMARY:Frauentreff
DESCRIPTION: In dieser Runde treffen sich Frauen\,  um sich auszutauschen\,  inhaltlich in bestimmte Themen einzusteigen oder gemeinsam etwas zu unternehmen. Jede Frau kann ihre eigenen Wünsche einbringen. Die Treffen finden 14 – tägig fortlaufend statt. Bei Interesse bitte den nächsten Termin erfragen.
URL:https://www.kulturhaus-pusdorf.de/events/frauentreff/var/ri-3.l-L1
END:VEVENT
END:VCALENDAR