BEGIN:VCALENDAR
VERSION:2.0
PRODID:-//eventon.com NONSGML v1.0//EN
BEGIN:VEVENT
UID:69e4fe9f30c63
DTSTAMP:20260419T181111
DTSTART:20260513T130000Z
DTEND:20260513T140000Z
TZID:Europe/Berlin
LOCATION:Kulturhaus Pusdorf / 1. Etage 
SUMMARY:Kinderkunstwerkstatt
DESCRIPTION: für Kinder ab 5 Jahre Zeichnen\,  drucken\,  malen und viele schöne Dinge aus Ton oder Salzteig formen ist in der Kunstwerkstatt möglich. Wir malen\,  basteln und bauen zu den Jahreszeiten oder angeregt von Geschichten und Märchen Dinge aus Papier\,  Pappe und anderen Materialien. Kursleiterin: Dorit Hillebrecht
URL:https://www.kulturhaus-pusdorf.de/events/kinderkunstwerkstatt-2/var/ri-7.l-L1
END:VEVENT
END:VCALENDAR