BEGIN:VCALENDAR
VERSION:2.0
PRODID:-//eventon.com NONSGML v1.0//EN
BEGIN:VEVENT
UID:69ed1b9186a97
DTSTAMP:20260425T215249
DTSTART:20260505T153000Z
DTEND:20260505T215000Z
TZID:Europe/Berlin
LOCATION:Kulturhaus Pusdorf / Veranstaltungsraum Woltmershauser Straße 444\,  28197 Bremen
SUMMARY:Standardtanz
DESCRIPTION: Tanzen ist Träumen mit den Füßen. Für alle\,  die das Tanzen erlernen wollen oder die schon tanzen können: Wir vermitteln Spaß am Tanzen. Wir unterrichten Standard- und Lateintänze sowie DiscoFox. Anmeldung bitte nur paarweise (wm\,  ww\,  mm). Kursleitung: Conny und Klaus Moje    
URL:https://www.kulturhaus-pusdorf.de/events/standardtanz/var/ri-9.l-L1
END:VEVENT
END:VCALENDAR