BEGIN:VCALENDAR
VERSION:2.0
PRODID:-//eventon.com NONSGML v1.0//EN
BEGIN:VEVENT
UID:69ed1bcb0e34a
DTSTAMP:20260425T215347
DTSTART:20260601T170000Z
DTEND:20260601T190000Z
TZID:Europe/Berlin
LOCATION:Kulturhaus Pusdorf / 1. Etage 
SUMMARY:Zeichenkurs
DESCRIPTION: Wir experimentieren mit unterschiedlichen Bleistiften und lernen so die verschiedenen Facetten der Bleistiftzeichnung kennen. Die Auseinandersetzung mit Zeichentechniken wie Strukturen\,  Form\,  Licht und Schatten trainieren die Fähigkeit\,  einen Gegenstand intensiver wahrzunehmen. Neben angeleiteten Übungen steht Raum für freies Arbeiten zur Verfügung. Es kann auch mit Buntstiften gearbeitet werden. Vorkenntnisse sind[..]
URL:https://www.kulturhaus-pusdorf.de/events/zeichenkurs/var/ri-8.l-L1
END:VEVENT
END:VCALENDAR