BEGIN:VCALENDAR
VERSION:2.0
PRODID:-//eventon.com NONSGML v1.0//EN
BEGIN:VEVENT
UID:69e5001bd70df
DTSTAMP:20260419T181731
DTSTART:20260504T170000Z
DTEND:20260504T190000Z
TZID:Europe/Berlin
LOCATION:Kulturhaus Pusdorf / 1. Etage 
SUMMARY:Zeichenkurs
DESCRIPTION: Wir experimentieren mit unterschiedlichen Bleistiften und lernen so die verschiedenen Facetten der Bleistiftzeichnung kennen. Die Auseinandersetzung mit Zeichentechniken wie Strukturen\,  Form\,  Licht und Schatten trainieren die Fähigkeit\,  einen Gegenstand intensiver wahrzunehmen. Neben angeleiteten Übungen steht Raum für freies Arbeiten zur Verfügung. Es kann auch mit Buntstiften gearbeitet werden. Vorkenntnisse sind[..]
URL:https://www.kulturhaus-pusdorf.de/events/zeichenkurs/var/ri-5.l-L1
END:VEVENT
END:VCALENDAR